BEGIN:VCALENDAR
VERSION:2.0
PRODID:-//Covenant Living at the Samarkand - ECPv6.15.18//NONSGML v1.0//EN
CALSCALE:GREGORIAN
METHOD:PUBLISH
X-ORIGINAL-URL:https://www.covlivingsamarkand.org
X-WR-CALDESC:Events for Covenant Living at the Samarkand
REFRESH-INTERVAL;VALUE=DURATION:PT1H
X-Robots-Tag:noindex
X-PUBLISHED-TTL:PT1H
BEGIN:VTIMEZONE
TZID:America/Los_Angeles
BEGIN:DAYLIGHT
TZOFFSETFROM:-0800
TZOFFSETTO:-0700
TZNAME:PDT
DTSTART:20220313T100000
END:DAYLIGHT
BEGIN:STANDARD
TZOFFSETFROM:-0700
TZOFFSETTO:-0800
TZNAME:PST
DTSTART:20221106T090000
END:STANDARD
BEGIN:DAYLIGHT
TZOFFSETFROM:-0800
TZOFFSETTO:-0700
TZNAME:PDT
DTSTART:20230312T100000
END:DAYLIGHT
BEGIN:STANDARD
TZOFFSETFROM:-0700
TZOFFSETTO:-0800
TZNAME:PST
DTSTART:20231105T090000
END:STANDARD
BEGIN:DAYLIGHT
TZOFFSETFROM:-0800
TZOFFSETTO:-0700
TZNAME:PDT
DTSTART:20240310T100000
END:DAYLIGHT
BEGIN:STANDARD
TZOFFSETFROM:-0700
TZOFFSETTO:-0800
TZNAME:PST
DTSTART:20241103T090000
END:STANDARD
END:VTIMEZONE
BEGIN:VEVENT
DTSTART;TZID=America/Los_Angeles:20231108T113000
DTEND;TZID=America/Los_Angeles:20231108T113000
DTSTAMP:20260419T062733
CREATED:20230831T132305Z
LAST-MODIFIED:20230831T132305Z
UID:10000059-1699443000-1699443000@www.covlivingsamarkand.org
SUMMARY:EVENT FULL :: Discovery Luncheon
DESCRIPTION:Get a glimpse into life at the Samarkand! Join us for a delicious chef-prepared lunch and discover the many benefits living in a continuing care retirement community (CCRC) can provide. You’ll learn about the exceptional amenities that make life here so rich and rewarding\, as well as the unparalleled social\, financial and wellness benefits. Explore our stunning campus and beautiful residences and see how the Samarkand can offer you an ideal retirement living experience.
URL:https://www.covlivingsamarkand.org/event/discovery-luncheon-7/
LOCATION:CA
CATEGORIES:General
ATTACH;FMTTYPE=image/jpeg:https://www.covlivingsamarkand.org/wp-content/uploads/2023/08/CSM-013-thumbnail_11-8-event.jpg
END:VEVENT
END:VCALENDAR