BEGIN:VCALENDAR
VERSION:2.0
PRODID:-//Covenant Living at the Samarkand - ECPv6.15.18//NONSGML v1.0//EN
CALSCALE:GREGORIAN
METHOD:PUBLISH
X-ORIGINAL-URL:https://www.covlivingsamarkand.org
X-WR-CALDESC:Events for Covenant Living at the Samarkand
REFRESH-INTERVAL;VALUE=DURATION:PT1H
X-Robots-Tag:noindex
X-PUBLISHED-TTL:PT1H
BEGIN:VTIMEZONE
TZID:America/Los_Angeles
BEGIN:DAYLIGHT
TZOFFSETFROM:-0800
TZOFFSETTO:-0700
TZNAME:PDT
DTSTART:20230312T100000
END:DAYLIGHT
BEGIN:STANDARD
TZOFFSETFROM:-0700
TZOFFSETTO:-0800
TZNAME:PST
DTSTART:20231105T090000
END:STANDARD
BEGIN:DAYLIGHT
TZOFFSETFROM:-0800
TZOFFSETTO:-0700
TZNAME:PDT
DTSTART:20240310T100000
END:DAYLIGHT
BEGIN:STANDARD
TZOFFSETFROM:-0700
TZOFFSETTO:-0800
TZNAME:PST
DTSTART:20241103T090000
END:STANDARD
BEGIN:DAYLIGHT
TZOFFSETFROM:-0800
TZOFFSETTO:-0700
TZNAME:PDT
DTSTART:20250309T100000
END:DAYLIGHT
BEGIN:STANDARD
TZOFFSETFROM:-0700
TZOFFSETTO:-0800
TZNAME:PST
DTSTART:20251102T090000
END:STANDARD
END:VTIMEZONE
BEGIN:VEVENT
DTSTART;TZID=America/Los_Angeles:20240521T113000
DTEND;TZID=America/Los_Angeles:20240521T113000
DTSTAMP:20260419T201914
CREATED:20240304T164228Z
LAST-MODIFIED:20240304T164228Z
UID:10000063-1716291000-1716291000@www.covlivingsamarkand.org
SUMMARY:EVENT FULL - Discovery Luncheon
DESCRIPTION:If you’ve never visited Covenant Living at the Samarkand\, here’s the perfect opportunity to discover our enriching senior living lifestyle. Enjoy a delicious chef-prepared lunch and get a taste of what our residents experience every day. Afterwards\, tour\nour campus and see firsthand the wonderful amenities that make life here so rewarding—including the security of guaranteed access to health care\, if ever required. And\, if you’re so inclined\, join our exclusive wait list and start making a plan today for a lifetime of rewarding tomorrows. First-time visitors only\, please.
URL:https://www.covlivingsamarkand.org/event/discovery-luncheon-8/
LOCATION:CA
CATEGORIES:General
ATTACH;FMTTYPE=image/jpeg:https://www.covlivingsamarkand.org/wp-content/uploads/2024/03/CLS-015-5_21-Event-Thumbnail.jpg
END:VEVENT
END:VCALENDAR